BEGIN:VCALENDAR
VERSION:2.0
PRODID:-//Forte Ristorante - ECPv6.15.13//NONSGML v1.0//EN
CALSCALE:GREGORIAN
METHOD:PUBLISH
X-WR-CALNAME:Forte Ristorante
X-ORIGINAL-URL:https://forteristorante.com
X-WR-CALDESC:Events for Forte Ristorante
REFRESH-INTERVAL;VALUE=DURATION:PT1H
X-Robots-Tag:noindex
X-PUBLISHED-TTL:PT1H
BEGIN:VTIMEZONE
TZID:UTC
BEGIN:STANDARD
TZOFFSETFROM:+0000
TZOFFSETTO:+0000
TZNAME:UTC
DTSTART:20240101T000000
END:STANDARD
END:VTIMEZONE
BEGIN:VEVENT
DTSTART;TZID=UTC:20251031T210000
DTEND;TZID=UTC:20251031T220000
DTSTAMP:20260423T233229
CREATED:20251022T181808Z
LAST-MODIFIED:20251022T181808Z
UID:3599-1761944400-1761948000@forteristorante.com
SUMMARY:DJ Gino G.
DESCRIPTION:
URL:https://forteristorante.com/event/dj-gino-g-3/
LOCATION:Forte Ristorante\, 160 Prospect Ave\, Hackensack\, NJ\, 07601\, United States
END:VEVENT
BEGIN:VEVENT
DTSTART;TZID=UTC:20251025T210000
DTEND;TZID=UTC:20251025T230000
DTSTAMP:20260423T233229
CREATED:20251022T181735Z
LAST-MODIFIED:20251022T181735Z
UID:3598-1761426000-1761433200@forteristorante.com
SUMMARY:TBA
DESCRIPTION:
URL:https://forteristorante.com/event/tba/
LOCATION:Forte Ristorante\, 160 Prospect Ave\, Hackensack\, NJ\, 07601\, United States
END:VEVENT
BEGIN:VEVENT
DTSTART;TZID=UTC:20251024T210000
DTEND;TZID=UTC:20251024T230000
DTSTAMP:20260423T233229
CREATED:20251022T181650Z
LAST-MODIFIED:20251022T181650Z
UID:3597-1761339600-1761346800@forteristorante.com
SUMMARY:DJ Ricky
DESCRIPTION:
URL:https://forteristorante.com/event/dj-ricky-2/
LOCATION:Forte Ristorante\, 160 Prospect Ave\, Hackensack\, NJ\, 07601\, United States
END:VEVENT
BEGIN:VEVENT
DTSTART;TZID=UTC:20251018T210000
DTEND;TZID=UTC:20251018T230000
DTSTAMP:20260423T233229
CREATED:20251022T181556Z
LAST-MODIFIED:20251022T181556Z
UID:3596-1760821200-1760828400@forteristorante.com
SUMMARY:DJ Gino G.
DESCRIPTION:
URL:https://forteristorante.com/event/dj-gino-g-2/
LOCATION:Forte Ristorante\, 160 Prospect Ave\, Hackensack\, NJ\, 07601\, United States
END:VEVENT
BEGIN:VEVENT
DTSTART;TZID=UTC:20251017T210000
DTEND;TZID=UTC:20251017T230000
DTSTAMP:20260423T233229
CREATED:20251022T181451Z
LAST-MODIFIED:20251022T181451Z
UID:3595-1760734800-1760742000@forteristorante.com
SUMMARY:DJ Gino G.
DESCRIPTION:
URL:https://forteristorante.com/event/dj-gino-g/
LOCATION:Forte Ristorante\, 160 Prospect Ave\, Hackensack\, NJ\, 07601\, United States
END:VEVENT
BEGIN:VEVENT
DTSTART;TZID=UTC:20251011T210000
DTEND;TZID=UTC:20251011T230000
DTSTAMP:20260423T233229
CREATED:20251022T180204Z
LAST-MODIFIED:20251022T181004Z
UID:3594-1760216400-1760223600@forteristorante.com
SUMMARY:DJ Josh
DESCRIPTION:
URL:https://forteristorante.com/event/dj-josh/
LOCATION:Forte Ristorante\, 160 Prospect Ave\, Hackensack\, NJ\, 07601\, United States
END:VEVENT
BEGIN:VEVENT
DTSTART;TZID=UTC:20251010T210000
DTEND;TZID=UTC:20251010T230000
DTSTAMP:20260423T233229
CREATED:20251022T180124Z
LAST-MODIFIED:20251022T180124Z
UID:3593-1760130000-1760137200@forteristorante.com
SUMMARY:DJ Ricky
DESCRIPTION:
URL:https://forteristorante.com/event/dj-ricky/
LOCATION:Forte Ristorante\, 160 Prospect Ave\, Hackensack\, NJ\, 07601\, United States
END:VEVENT
END:VCALENDAR