BEGIN:VCALENDAR
VERSION:2.0
PRODID:-//Forte Ristorante - ECPv6.15.13//NONSGML v1.0//EN
CALSCALE:GREGORIAN
METHOD:PUBLISH
X-WR-CALNAME:Forte Ristorante
X-ORIGINAL-URL:https://forteristorante.com
X-WR-CALDESC:Events for Forte Ristorante
REFRESH-INTERVAL;VALUE=DURATION:PT1H
X-Robots-Tag:noindex
X-PUBLISHED-TTL:PT1H
BEGIN:VTIMEZONE
TZID:UTC
BEGIN:STANDARD
TZOFFSETFROM:+0000
TZOFFSETTO:+0000
TZNAME:UTC
DTSTART:20240101T000000
END:STANDARD
END:VTIMEZONE
BEGIN:VEVENT
DTSTART;VALUE=DATE:20260102
DTEND;VALUE=DATE:20260103
DTSTAMP:20260421T235942
CREATED:20251202T125110Z
LAST-MODIFIED:20251211T190650Z
UID:3635-1767312000-1767398399@forteristorante.com
SUMMARY:DJ Dave The Rave
DESCRIPTION:9:30 PM – 1 AM
URL:https://forteristorante.com/event/dj-dave-the-rave/
LOCATION:Forte Ristorante\, 160 Prospect Ave\, Hackensack\, NJ\, 07601\, United States
END:VEVENT
BEGIN:VEVENT
DTSTART;VALUE=DATE:20251231
DTEND;VALUE=DATE:20260101
DTSTAMP:20260421T235942
CREATED:20251211T190526Z
LAST-MODIFIED:20251211T193551Z
UID:3649-1767139200-1767225599@forteristorante.com
SUMMARY:New Year's Eve: DJ Dave the Rave
DESCRIPTION:Join us this New Year’s Eve! \nDJ Dave the Rave + Ballon Drop & Champagne Toast at Midnight. \n9:30 PM – 1:00 AM \n  \n  \n 
URL:https://forteristorante.com/event/new-years-eve-dj-dave-the-rave/
LOCATION:NJ
END:VEVENT
BEGIN:VEVENT
DTSTART;VALUE=DATE:20251227
DTEND;VALUE=DATE:20251228
DTSTAMP:20260421T235942
CREATED:20251202T125009Z
LAST-MODIFIED:20251211T190705Z
UID:3634-1766793600-1766879999@forteristorante.com
SUMMARY:DJ G-Rock
DESCRIPTION:9:30 PM – 1 AM
URL:https://forteristorante.com/event/dj-g-rock-3/
LOCATION:Forte Ristorante\, 160 Prospect Ave\, Hackensack\, NJ\, 07601\, United States
END:VEVENT
BEGIN:VEVENT
DTSTART;VALUE=DATE:20251226
DTEND;VALUE=DATE:20251227
DTSTAMP:20260421T235942
CREATED:20251202T124907Z
LAST-MODIFIED:20251211T190738Z
UID:3633-1766707200-1766793599@forteristorante.com
SUMMARY:DJ Ricky
DESCRIPTION:9:30 PM – 1 AM
URL:https://forteristorante.com/event/dj-ricky-8/
LOCATION:Forte Ristorante\, 160 Prospect Ave\, Hackensack\, NJ\, 07601\, United States
END:VEVENT
BEGIN:VEVENT
DTSTART;VALUE=DATE:20251220
DTEND;VALUE=DATE:20251221
DTSTAMP:20260421T235942
CREATED:20251202T124827Z
LAST-MODIFIED:20251211T190754Z
UID:3632-1766188800-1766275199@forteristorante.com
SUMMARY:DJ Josh
DESCRIPTION:9:30 PM – 1 AM
URL:https://forteristorante.com/event/dj-josh-6/
LOCATION:Forte Ristorante\, 160 Prospect Ave\, Hackensack\, NJ\, 07601\, United States
END:VEVENT
BEGIN:VEVENT
DTSTART;VALUE=DATE:20251219
DTEND;VALUE=DATE:20251220
DTSTAMP:20260421T235942
CREATED:20251202T124624Z
LAST-MODIFIED:20251211T190810Z
UID:3631-1766102400-1766188799@forteristorante.com
SUMMARY:DJ Anthony DiLauri
DESCRIPTION:9:30 PM – 1 AM
URL:https://forteristorante.com/event/dj-anthony-dilauri-2/
LOCATION:Forte Ristorante\, 160 Prospect Ave\, Hackensack\, NJ\, 07601\, United States
END:VEVENT
BEGIN:VEVENT
DTSTART;TZID=UTC:20251217T183000
DTEND;TZID=UTC:20251217T220000
DTSTAMP:20260421T235942
CREATED:20251202T181713Z
LAST-MODIFIED:20251202T182100Z
UID:3637-1765996200-1766008800@forteristorante.com
SUMMARY:Anthony "Duke" Claus - Barry Manillow Christmas Tribute Show
DESCRIPTION:
URL:https://forteristorante.com/event/anthony-duke-claus-barry-manillow-christmas-tribute-show/
LOCATION:Forte Ristorante\, 160 Prospect Ave\, Hackensack\, NJ\, 07601\, United States
END:VEVENT
BEGIN:VEVENT
DTSTART;VALUE=DATE:20251213
DTEND;VALUE=DATE:20251214
DTSTAMP:20260421T235942
CREATED:20251202T122518Z
LAST-MODIFIED:20251211T190824Z
UID:3629-1765584000-1765670399@forteristorante.com
SUMMARY:DJ. G-Rock
DESCRIPTION:9:30 PM – 1 AM
URL:https://forteristorante.com/event/dj-g-rock-2/
LOCATION:Forte Ristorante\, 160 Prospect Ave\, Hackensack\, NJ\, 07601\, United States
END:VEVENT
BEGIN:VEVENT
DTSTART;VALUE=DATE:20251212
DTEND;VALUE=DATE:20251213
DTSTAMP:20260421T235942
CREATED:20251202T122438Z
LAST-MODIFIED:20251211T190840Z
UID:3628-1765497600-1765583999@forteristorante.com
SUMMARY:DJ Ricky
DESCRIPTION:9:30 PM – 1 AM
URL:https://forteristorante.com/event/dj-ricky-7/
LOCATION:Forte Ristorante\, 160 Prospect Ave\, Hackensack\, NJ\, 07601\, United States
END:VEVENT
BEGIN:VEVENT
DTSTART;VALUE=DATE:20251206
DTEND;VALUE=DATE:20251207
DTSTAMP:20260421T235942
CREATED:20251202T122343Z
LAST-MODIFIED:20251211T190938Z
UID:3627-1764979200-1765065599@forteristorante.com
SUMMARY:DJ Josh
DESCRIPTION:9:30 PM – 1 AM
URL:https://forteristorante.com/event/dj-josh-5/
LOCATION:Forte Ristorante\, 160 Prospect Ave\, Hackensack\, NJ\, 07601\, United States
END:VEVENT
BEGIN:VEVENT
DTSTART;VALUE=DATE:20251205
DTEND;VALUE=DATE:20251206
DTSTAMP:20260421T235942
CREATED:20251202T122117Z
LAST-MODIFIED:20251211T190921Z
UID:3626-1764892800-1764979199@forteristorante.com
SUMMARY:DJ Gino G
DESCRIPTION:9:30 PM – 1 AM
URL:https://forteristorante.com/event/dj-gino-g-4/
LOCATION:Forte Ristorante\, 160 Prospect Ave\, Hackensack\, NJ\, 07601\, United States
END:VEVENT
BEGIN:VEVENT
DTSTART;TZID=UTC:20251129T210000
DTEND;TZID=UTC:20251129T220000
DTSTAMP:20260421T235942
CREATED:20251112T184345Z
LAST-MODIFIED:20251112T184345Z
UID:3622-1764450000-1764453600@forteristorante.com
SUMMARY:DJ G-Rock
DESCRIPTION:
URL:https://forteristorante.com/event/dj-g-rock/
LOCATION:Forte Ristorante\, 160 Prospect Ave\, Hackensack\, NJ\, 07601\, United States
END:VEVENT
BEGIN:VEVENT
DTSTART;TZID=UTC:20251128T210000
DTEND;TZID=UTC:20251128T220000
DTSTAMP:20260421T235942
CREATED:20251112T184151Z
LAST-MODIFIED:20251112T184151Z
UID:3621-1764363600-1764367200@forteristorante.com
SUMMARY:DJ Ricky
DESCRIPTION:
URL:https://forteristorante.com/event/dj-ricky-6/
LOCATION:Forte Ristorante\, 160 Prospect Ave\, Hackensack\, NJ\, 07601\, United States
END:VEVENT
BEGIN:VEVENT
DTSTART;TZID=UTC:20251126T210000
DTEND;TZID=UTC:20251126T220000
DTSTAMP:20260421T235942
CREATED:20251112T183619Z
LAST-MODIFIED:20251112T183619Z
UID:3620-1764190800-1764194400@forteristorante.com
SUMMARY:DJ Josh
DESCRIPTION:
URL:https://forteristorante.com/event/dj-josh-4/
LOCATION:Forte Ristorante\, 160 Prospect Ave\, Hackensack\, NJ\, 07601\, United States
END:VEVENT
BEGIN:VEVENT
DTSTART;TZID=UTC:20251126T180000
DTEND;TZID=UTC:20251126T200000
DTSTAMP:20260421T235942
CREATED:20251112T183525Z
LAST-MODIFIED:20251112T183525Z
UID:3619-1764180000-1764187200@forteristorante.com
SUMMARY:Thanksgiving Eve
DESCRIPTION:
URL:https://forteristorante.com/event/thanksgiving-eve/
LOCATION:Forte Ristorante\, 160 Prospect Ave\, Hackensack\, NJ\, 07601\, United States
END:VEVENT
BEGIN:VEVENT
DTSTART;TZID=UTC:20251122T210000
DTEND;TZID=UTC:20251122T220000
DTSTAMP:20260421T235942
CREATED:20251112T183317Z
LAST-MODIFIED:20251112T183317Z
UID:3618-1763845200-1763848800@forteristorante.com
SUMMARY:DJ Josh
DESCRIPTION:
URL:https://forteristorante.com/event/dj-josh-3/
LOCATION:Forte Ristorante\, 160 Prospect Ave\, Hackensack\, NJ\, 07601\, United States
END:VEVENT
BEGIN:VEVENT
DTSTART;TZID=UTC:20251121T210000
DTEND;TZID=UTC:20251121T220000
DTSTAMP:20260421T235942
CREATED:20251112T183238Z
LAST-MODIFIED:20251112T183238Z
UID:3617-1763758800-1763762400@forteristorante.com
SUMMARY:DJ Ricky
DESCRIPTION:
URL:https://forteristorante.com/event/dj-ricky-5/
LOCATION:Forte Ristorante\, 160 Prospect Ave\, Hackensack\, NJ\, 07601\, United States
END:VEVENT
BEGIN:VEVENT
DTSTART;TZID=UTC:20251115T210000
DTEND;TZID=UTC:20251115T220000
DTSTAMP:20260421T235942
CREATED:20251112T183142Z
LAST-MODIFIED:20251112T183142Z
UID:3616-1763240400-1763244000@forteristorante.com
SUMMARY:DJ Josh
DESCRIPTION:
URL:https://forteristorante.com/event/dj-josh-2/
LOCATION:Forte Ristorante\, 160 Prospect Ave\, Hackensack\, NJ\, 07601\, United States
END:VEVENT
BEGIN:VEVENT
DTSTART;TZID=UTC:20251114T210000
DTEND;TZID=UTC:20251114T220000
DTSTAMP:20260421T235942
CREATED:20251112T183040Z
LAST-MODIFIED:20251112T183040Z
UID:3615-1763154000-1763157600@forteristorante.com
SUMMARY:DJ Ricky
DESCRIPTION:
URL:https://forteristorante.com/event/dj-ricky-4/
LOCATION:Forte Ristorante\, 160 Prospect Ave\, Hackensack\, NJ\, 07601\, United States
END:VEVENT
BEGIN:VEVENT
DTSTART;TZID=UTC:20251112T183000
DTEND;TZID=UTC:20251112T220000
DTSTAMP:20260421T235942
CREATED:20251112T182832Z
LAST-MODIFIED:20251112T184502Z
UID:3613-1762972200-1762984800@forteristorante.com
SUMMARY:Julian & Dominique Live Show
DESCRIPTION:
URL:https://forteristorante.com/event/julian-dominique-live-show/
LOCATION:Forte Ristorante\, 160 Prospect Ave\, Hackensack\, NJ\, 07601\, United States
END:VEVENT
BEGIN:VEVENT
DTSTART;TZID=UTC:20251108T210000
DTEND;TZID=UTC:20251108T220000
DTSTAMP:20260421T235942
CREATED:20251112T182700Z
LAST-MODIFIED:20251112T184445Z
UID:3612-1762635600-1762639200@forteristorante.com
SUMMARY:DJ Carmine
DESCRIPTION:
URL:https://forteristorante.com/event/dj-carmine/
LOCATION:Forte Ristorante\, 160 Prospect Ave\, Hackensack\, NJ\, 07601\, United States
END:VEVENT
BEGIN:VEVENT
DTSTART;TZID=UTC:20251107T210000
DTEND;TZID=UTC:20251107T220000
DTSTAMP:20260421T235942
CREATED:20251112T182623Z
LAST-MODIFIED:20251112T182623Z
UID:3611-1762549200-1762552800@forteristorante.com
SUMMARY:DJ Anthony DiLAURI
DESCRIPTION:
URL:https://forteristorante.com/event/dj-anthony-dilauri/
LOCATION:Forte Ristorante\, 160 Prospect Ave\, Hackensack\, NJ\, 07601\, United States
END:VEVENT
BEGIN:VEVENT
DTSTART;TZID=UTC:20251101T210000
DTEND;TZID=UTC:20251101T220000
DTSTAMP:20260421T235942
CREATED:20251022T181842Z
LAST-MODIFIED:20251022T181842Z
UID:3600-1762030800-1762034400@forteristorante.com
SUMMARY:DJ Ricky
DESCRIPTION:
URL:https://forteristorante.com/event/dj-ricky-3/
LOCATION:Forte Ristorante\, 160 Prospect Ave\, Hackensack\, NJ\, 07601\, United States
END:VEVENT
BEGIN:VEVENT
DTSTART;TZID=UTC:20251031T210000
DTEND;TZID=UTC:20251031T220000
DTSTAMP:20260421T235942
CREATED:20251022T181808Z
LAST-MODIFIED:20251022T181808Z
UID:3599-1761944400-1761948000@forteristorante.com
SUMMARY:DJ Gino G.
DESCRIPTION:
URL:https://forteristorante.com/event/dj-gino-g-3/
LOCATION:Forte Ristorante\, 160 Prospect Ave\, Hackensack\, NJ\, 07601\, United States
END:VEVENT
BEGIN:VEVENT
DTSTART;TZID=UTC:20251025T210000
DTEND;TZID=UTC:20251025T230000
DTSTAMP:20260421T235942
CREATED:20251022T181735Z
LAST-MODIFIED:20251022T181735Z
UID:3598-1761426000-1761433200@forteristorante.com
SUMMARY:TBA
DESCRIPTION:
URL:https://forteristorante.com/event/tba/
LOCATION:Forte Ristorante\, 160 Prospect Ave\, Hackensack\, NJ\, 07601\, United States
END:VEVENT
BEGIN:VEVENT
DTSTART;TZID=UTC:20251024T210000
DTEND;TZID=UTC:20251024T230000
DTSTAMP:20260421T235942
CREATED:20251022T181650Z
LAST-MODIFIED:20251022T181650Z
UID:3597-1761339600-1761346800@forteristorante.com
SUMMARY:DJ Ricky
DESCRIPTION:
URL:https://forteristorante.com/event/dj-ricky-2/
LOCATION:Forte Ristorante\, 160 Prospect Ave\, Hackensack\, NJ\, 07601\, United States
END:VEVENT
BEGIN:VEVENT
DTSTART;TZID=UTC:20251018T210000
DTEND;TZID=UTC:20251018T230000
DTSTAMP:20260421T235942
CREATED:20251022T181556Z
LAST-MODIFIED:20251022T181556Z
UID:3596-1760821200-1760828400@forteristorante.com
SUMMARY:DJ Gino G.
DESCRIPTION:
URL:https://forteristorante.com/event/dj-gino-g-2/
LOCATION:Forte Ristorante\, 160 Prospect Ave\, Hackensack\, NJ\, 07601\, United States
END:VEVENT
BEGIN:VEVENT
DTSTART;TZID=UTC:20251017T210000
DTEND;TZID=UTC:20251017T230000
DTSTAMP:20260421T235942
CREATED:20251022T181451Z
LAST-MODIFIED:20251022T181451Z
UID:3595-1760734800-1760742000@forteristorante.com
SUMMARY:DJ Gino G.
DESCRIPTION:
URL:https://forteristorante.com/event/dj-gino-g/
LOCATION:Forte Ristorante\, 160 Prospect Ave\, Hackensack\, NJ\, 07601\, United States
END:VEVENT
BEGIN:VEVENT
DTSTART;TZID=UTC:20251011T210000
DTEND;TZID=UTC:20251011T230000
DTSTAMP:20260421T235942
CREATED:20251022T180204Z
LAST-MODIFIED:20251022T181004Z
UID:3594-1760216400-1760223600@forteristorante.com
SUMMARY:DJ Josh
DESCRIPTION:
URL:https://forteristorante.com/event/dj-josh/
LOCATION:Forte Ristorante\, 160 Prospect Ave\, Hackensack\, NJ\, 07601\, United States
END:VEVENT
BEGIN:VEVENT
DTSTART;TZID=UTC:20251010T210000
DTEND;TZID=UTC:20251010T230000
DTSTAMP:20260421T235942
CREATED:20251022T180124Z
LAST-MODIFIED:20251022T180124Z
UID:3593-1760130000-1760137200@forteristorante.com
SUMMARY:DJ Ricky
DESCRIPTION:
URL:https://forteristorante.com/event/dj-ricky/
LOCATION:Forte Ristorante\, 160 Prospect Ave\, Hackensack\, NJ\, 07601\, United States
END:VEVENT
END:VCALENDAR