BEGIN:VCALENDAR
VERSION:2.0
PRODID:-//Forte Ristorante - ECPv6.15.13//NONSGML v1.0//EN
CALSCALE:GREGORIAN
METHOD:PUBLISH
X-WR-CALNAME:Forte Ristorante
X-ORIGINAL-URL:https://forteristorante.com
X-WR-CALDESC:Events for Forte Ristorante
REFRESH-INTERVAL;VALUE=DURATION:PT1H
X-Robots-Tag:noindex
X-PUBLISHED-TTL:PT1H
BEGIN:VTIMEZONE
TZID:UTC
BEGIN:STANDARD
TZOFFSETFROM:+0000
TZOFFSETTO:+0000
TZNAME:UTC
DTSTART:20240101T000000
END:STANDARD
END:VTIMEZONE
BEGIN:VEVENT
DTSTART;TZID=UTC:20260314T210000
DTEND;TZID=UTC:20260314T233000
DTSTAMP:20260421T152347
CREATED:20260303T110439Z
LAST-MODIFIED:20260303T110439Z
UID:3678-1773522000-1773531000@forteristorante.com
SUMMARY:DJ Anthony DiLauri
DESCRIPTION:
URL:https://forteristorante.com/event/dj-anthony-dilauri-6/
LOCATION:Forte Ristorante\, 160 Prospect Ave\, Hackensack\, NJ\, 07601\, United States
END:VEVENT
BEGIN:VEVENT
DTSTART;TZID=UTC:20260313T210000
DTEND;TZID=UTC:20260313T233000
DTSTAMP:20260421T152347
CREATED:20260303T110057Z
LAST-MODIFIED:20260303T110813Z
UID:3677-1773435600-1773444600@forteristorante.com
SUMMARY:DJ GINO
DESCRIPTION:
URL:https://forteristorante.com/event/dj-gino-2/
LOCATION:Forte Ristorante\, 160 Prospect Ave\, Hackensack\, NJ\, 07601\, United States
END:VEVENT
BEGIN:VEVENT
DTSTART;TZID=UTC:20260307T210000
DTEND;TZID=UTC:20260307T233000
DTSTAMP:20260421T152347
CREATED:20260303T110014Z
LAST-MODIFIED:20260303T110014Z
UID:3676-1772917200-1772926200@forteristorante.com
SUMMARY:DJ Anthony DiLauri
DESCRIPTION:
URL:https://forteristorante.com/event/dj-anthony-dilauri-5/
LOCATION:Forte Ristorante\, 160 Prospect Ave\, Hackensack\, NJ\, 07601\, United States
END:VEVENT
BEGIN:VEVENT
DTSTART;TZID=UTC:20260306T210000
DTEND;TZID=UTC:20260306T230000
DTSTAMP:20260421T152347
CREATED:20260303T105939Z
LAST-MODIFIED:20260303T105939Z
UID:3675-1772830800-1772838000@forteristorante.com
SUMMARY:DJ Ricky
DESCRIPTION:
URL:https://forteristorante.com/event/dj-ricky-16/
LOCATION:Forte Ristorante\, 160 Prospect Ave\, Hackensack\, NJ\, 07601\, United States
END:VEVENT
BEGIN:VEVENT
DTSTART;TZID=UTC:20260228T210000
DTEND;TZID=UTC:20260228T230000
DTSTAMP:20260421T152347
CREATED:20260130T182435Z
LAST-MODIFIED:20260130T182435Z
UID:3671-1772312400-1772319600@forteristorante.com
SUMMARY:DJ Dave The Rave
DESCRIPTION:
URL:https://forteristorante.com/event/dj-dave-the-rave-3/
LOCATION:Forte Ristorante\, 160 Prospect Ave\, Hackensack\, NJ\, 07601\, United States
END:VEVENT
BEGIN:VEVENT
DTSTART;TZID=UTC:20260227T210000
DTEND;TZID=UTC:20260227T230000
DTSTAMP:20260421T152347
CREATED:20260130T182158Z
LAST-MODIFIED:20260130T182158Z
UID:3670-1772226000-1772233200@forteristorante.com
SUMMARY:DJ Ricky
DESCRIPTION:
URL:https://forteristorante.com/event/dj-ricky-15/
LOCATION:Forte Ristorante\, 160 Prospect Ave\, Hackensack\, NJ\, 07601\, United States
END:VEVENT
BEGIN:VEVENT
DTSTART;TZID=UTC:20260221T210000
DTEND;TZID=UTC:20260221T230000
DTSTAMP:20260421T152347
CREATED:20260130T182115Z
LAST-MODIFIED:20260130T182115Z
UID:3669-1771707600-1771714800@forteristorante.com
SUMMARY:DJ Ging
DESCRIPTION:
URL:https://forteristorante.com/event/dj-ging/
LOCATION:Forte Ristorante\, 160 Prospect Ave\, Hackensack\, NJ\, 07601\, United States
END:VEVENT
BEGIN:VEVENT
DTSTART;TZID=UTC:20260220T210000
DTEND;TZID=UTC:20260220T230000
DTSTAMP:20260421T152347
CREATED:20260130T182035Z
LAST-MODIFIED:20260130T182035Z
UID:3667-1771621200-1771628400@forteristorante.com
SUMMARY:DJ Ricky
DESCRIPTION:
URL:https://forteristorante.com/event/dj-ricky-14/
LOCATION:Forte Ristorante\, 160 Prospect Ave\, Hackensack\, NJ\, 07601\, United States
END:VEVENT
BEGIN:VEVENT
DTSTART;TZID=UTC:20260214T210000
DTEND;TZID=UTC:20260214T230000
DTSTAMP:20260421T152347
CREATED:20260130T181910Z
LAST-MODIFIED:20260130T181910Z
UID:3665-1771102800-1771110000@forteristorante.com
SUMMARY:DJ Mike Schaffer
DESCRIPTION:
URL:https://forteristorante.com/event/dj-mike-schaffer/
LOCATION:Forte Ristorante\, 160 Prospect Ave\, Hackensack\, NJ\, 07601\, United States
END:VEVENT
BEGIN:VEVENT
DTSTART;TZID=UTC:20260213T210000
DTEND;TZID=UTC:20260213T230000
DTSTAMP:20260421T152347
CREATED:20260130T181747Z
LAST-MODIFIED:20260130T181747Z
UID:3664-1771016400-1771023600@forteristorante.com
SUMMARY:DJ Dave the Rave
DESCRIPTION:
URL:https://forteristorante.com/event/dj-dave-the-rave-2/
LOCATION:Forte Ristorante\, 160 Prospect Ave\, Hackensack\, NJ\, 07601\, United States
END:VEVENT
BEGIN:VEVENT
DTSTART;TZID=UTC:20260207T210000
DTEND;TZID=UTC:20260207T230000
DTSTAMP:20260421T152347
CREATED:20260130T181626Z
LAST-MODIFIED:20260130T181626Z
UID:3663-1770498000-1770505200@forteristorante.com
SUMMARY:DJ Anthony DilAURI
DESCRIPTION:
URL:https://forteristorante.com/event/dj-anthony-dilauri-4/
LOCATION:Forte Ristorante\, 160 Prospect Ave\, Hackensack\, NJ\, 07601\, United States
END:VEVENT
BEGIN:VEVENT
DTSTART;TZID=UTC:20260206T210000
DTEND;TZID=UTC:20260206T230000
DTSTAMP:20260421T152347
CREATED:20260130T181511Z
LAST-MODIFIED:20260130T181511Z
UID:3662-1770411600-1770418800@forteristorante.com
SUMMARY:DJ Ricky
DESCRIPTION:
URL:https://forteristorante.com/event/dj-ricky-13/
LOCATION:Forte Ristorante\, 160 Prospect Ave\, Hackensack\, NJ\, 07601\, United States
END:VEVENT
BEGIN:VEVENT
DTSTART;TZID=UTC:20260131T210000
DTEND;TZID=UTC:20260131T230000
DTSTAMP:20260421T152347
CREATED:20260106T120840Z
LAST-MODIFIED:20260106T120840Z
UID:3660-1769893200-1769900400@forteristorante.com
SUMMARY:DJ Anthony DiLAURI
DESCRIPTION:
URL:https://forteristorante.com/event/dj-anthony-dilauri-3/
LOCATION:Forte Ristorante\, 160 Prospect Ave\, Hackensack\, NJ\, 07601\, United States
END:VEVENT
BEGIN:VEVENT
DTSTART;TZID=UTC:20260130T210000
DTEND;TZID=UTC:20260130T230000
DTSTAMP:20260421T152347
CREATED:20260106T120734Z
LAST-MODIFIED:20260106T120734Z
UID:3659-1769806800-1769814000@forteristorante.com
SUMMARY:DJ Ricky
DESCRIPTION:
URL:https://forteristorante.com/event/dj-ricky-12/
LOCATION:Forte Ristorante\, 160 Prospect Ave\, Hackensack\, NJ\, 07601\, United States
END:VEVENT
BEGIN:VEVENT
DTSTART;TZID=UTC:20260124T210000
DTEND;TZID=UTC:20260124T230000
DTSTAMP:20260421T152347
CREATED:20260106T120633Z
LAST-MODIFIED:20260106T120633Z
UID:3658-1769288400-1769295600@forteristorante.com
SUMMARY:DJ Josh
DESCRIPTION:
URL:https://forteristorante.com/event/dj-josh-7/
LOCATION:Forte Ristorante\, 160 Prospect Ave\, Hackensack\, NJ\, 07601\, United States
END:VEVENT
BEGIN:VEVENT
DTSTART;TZID=UTC:20260123T210000
DTEND;TZID=UTC:20260123T230000
DTSTAMP:20260421T152347
CREATED:20260106T120539Z
LAST-MODIFIED:20260106T120539Z
UID:3657-1769202000-1769209200@forteristorante.com
SUMMARY:DJ Gino
DESCRIPTION:
URL:https://forteristorante.com/event/dj-gino/
LOCATION:Forte Ristorante\, 160 Prospect Ave\, Hackensack\, NJ\, 07601\, United States
END:VEVENT
BEGIN:VEVENT
DTSTART;TZID=UTC:20260117T210000
DTEND;TZID=UTC:20260117T230000
DTSTAMP:20260421T152347
CREATED:20260106T120348Z
LAST-MODIFIED:20260106T120348Z
UID:3656-1768683600-1768690800@forteristorante.com
SUMMARY:DJ Ricky
DESCRIPTION:
URL:https://forteristorante.com/event/dj-ricky-11/
LOCATION:Forte Ristorante\, 160 Prospect Ave\, Hackensack\, NJ\, 07601\, United States
END:VEVENT
BEGIN:VEVENT
DTSTART;TZID=UTC:20260116T210000
DTEND;TZID=UTC:20260116T230000
DTSTAMP:20260421T152347
CREATED:20260106T120109Z
LAST-MODIFIED:20260106T120109Z
UID:3655-1768597200-1768604400@forteristorante.com
SUMMARY:DJ Mike
DESCRIPTION:
URL:https://forteristorante.com/event/dj-mike/
LOCATION:Forte Ristorante\, 160 Prospect Ave\, Hackensack\, NJ\, 07601\, United States
END:VEVENT
BEGIN:VEVENT
DTSTART;TZID=UTC:20260110T210000
DTEND;TZID=UTC:20260110T230000
DTSTAMP:20260421T152347
CREATED:20260106T115850Z
LAST-MODIFIED:20260106T115850Z
UID:3654-1768078800-1768086000@forteristorante.com
SUMMARY:G-Rock
DESCRIPTION:
URL:https://forteristorante.com/event/g-rock/
LOCATION:Forte Ristorante\, 160 Prospect Ave\, Hackensack\, NJ\, 07601\, United States
END:VEVENT
BEGIN:VEVENT
DTSTART;TZID=UTC:20260109T210000
DTEND;TZID=UTC:20260109T230000
DTSTAMP:20260421T152347
CREATED:20260106T115716Z
LAST-MODIFIED:20260106T115716Z
UID:3653-1767992400-1767999600@forteristorante.com
SUMMARY:DJ Ricky
DESCRIPTION:
URL:https://forteristorante.com/event/dj-ricky-10/
LOCATION:Forte Ristorante\, 160 Prospect Ave\, Hackensack\, NJ\, 07601\, United States
END:VEVENT
BEGIN:VEVENT
DTSTART;TZID=UTC:20260103T210000
DTEND;TZID=UTC:20260103T230000
DTSTAMP:20260421T152347
CREATED:20260106T115213Z
LAST-MODIFIED:20260106T115213Z
UID:3652-1767474000-1767481200@forteristorante.com
SUMMARY:DJ Ricky
DESCRIPTION:
URL:https://forteristorante.com/event/dj-ricky-9/
LOCATION:Forte Ristorante\, 160 Prospect Ave\, Hackensack\, NJ\, 07601\, United States
END:VEVENT
BEGIN:VEVENT
DTSTART;VALUE=DATE:20260103
DTEND;VALUE=DATE:20260104
DTSTAMP:20260421T152347
CREATED:20251202T125159Z
LAST-MODIFIED:20251211T185800Z
UID:3636-1767398400-1767484799@forteristorante.com
SUMMARY:DJ Gino G
DESCRIPTION:9:30 PM – 1 AM
URL:https://forteristorante.com/event/dj-gino-g-5/
LOCATION:Forte Ristorante\, 160 Prospect Ave\, Hackensack\, NJ\, 07601\, United States
END:VEVENT
BEGIN:VEVENT
DTSTART;TZID=UTC:20260102T210000
DTEND;TZID=UTC:20260102T230000
DTSTAMP:20260421T152347
CREATED:20260106T115009Z
LAST-MODIFIED:20260106T115009Z
UID:3651-1767387600-1767394800@forteristorante.com
SUMMARY:Dave The Rave
DESCRIPTION:
URL:https://forteristorante.com/event/dave-the-rave/
LOCATION:Forte Ristorante\, 160 Prospect Ave\, Hackensack\, NJ\, 07601\, United States
END:VEVENT
BEGIN:VEVENT
DTSTART;VALUE=DATE:20260102
DTEND;VALUE=DATE:20260103
DTSTAMP:20260421T152347
CREATED:20251202T125110Z
LAST-MODIFIED:20251211T190650Z
UID:3635-1767312000-1767398399@forteristorante.com
SUMMARY:DJ Dave The Rave
DESCRIPTION:9:30 PM – 1 AM
URL:https://forteristorante.com/event/dj-dave-the-rave/
LOCATION:Forte Ristorante\, 160 Prospect Ave\, Hackensack\, NJ\, 07601\, United States
END:VEVENT
BEGIN:VEVENT
DTSTART;VALUE=DATE:20251231
DTEND;VALUE=DATE:20260101
DTSTAMP:20260421T152347
CREATED:20251211T190526Z
LAST-MODIFIED:20251211T193551Z
UID:3649-1767139200-1767225599@forteristorante.com
SUMMARY:New Year's Eve: DJ Dave the Rave
DESCRIPTION:Join us this New Year’s Eve! \nDJ Dave the Rave + Ballon Drop & Champagne Toast at Midnight. \n9:30 PM – 1:00 AM \n  \n  \n 
URL:https://forteristorante.com/event/new-years-eve-dj-dave-the-rave/
LOCATION:NJ
END:VEVENT
BEGIN:VEVENT
DTSTART;VALUE=DATE:20251227
DTEND;VALUE=DATE:20251228
DTSTAMP:20260421T152347
CREATED:20251202T125009Z
LAST-MODIFIED:20251211T190705Z
UID:3634-1766793600-1766879999@forteristorante.com
SUMMARY:DJ G-Rock
DESCRIPTION:9:30 PM – 1 AM
URL:https://forteristorante.com/event/dj-g-rock-3/
LOCATION:Forte Ristorante\, 160 Prospect Ave\, Hackensack\, NJ\, 07601\, United States
END:VEVENT
BEGIN:VEVENT
DTSTART;VALUE=DATE:20251226
DTEND;VALUE=DATE:20251227
DTSTAMP:20260421T152347
CREATED:20251202T124907Z
LAST-MODIFIED:20251211T190738Z
UID:3633-1766707200-1766793599@forteristorante.com
SUMMARY:DJ Ricky
DESCRIPTION:9:30 PM – 1 AM
URL:https://forteristorante.com/event/dj-ricky-8/
LOCATION:Forte Ristorante\, 160 Prospect Ave\, Hackensack\, NJ\, 07601\, United States
END:VEVENT
BEGIN:VEVENT
DTSTART;VALUE=DATE:20251220
DTEND;VALUE=DATE:20251221
DTSTAMP:20260421T152347
CREATED:20251202T124827Z
LAST-MODIFIED:20251211T190754Z
UID:3632-1766188800-1766275199@forteristorante.com
SUMMARY:DJ Josh
DESCRIPTION:9:30 PM – 1 AM
URL:https://forteristorante.com/event/dj-josh-6/
LOCATION:Forte Ristorante\, 160 Prospect Ave\, Hackensack\, NJ\, 07601\, United States
END:VEVENT
BEGIN:VEVENT
DTSTART;VALUE=DATE:20251219
DTEND;VALUE=DATE:20251220
DTSTAMP:20260421T152347
CREATED:20251202T124624Z
LAST-MODIFIED:20251211T190810Z
UID:3631-1766102400-1766188799@forteristorante.com
SUMMARY:DJ Anthony DiLauri
DESCRIPTION:9:30 PM – 1 AM
URL:https://forteristorante.com/event/dj-anthony-dilauri-2/
LOCATION:Forte Ristorante\, 160 Prospect Ave\, Hackensack\, NJ\, 07601\, United States
END:VEVENT
BEGIN:VEVENT
DTSTART;TZID=UTC:20251217T183000
DTEND;TZID=UTC:20251217T220000
DTSTAMP:20260421T152347
CREATED:20251202T181713Z
LAST-MODIFIED:20251202T182100Z
UID:3637-1765996200-1766008800@forteristorante.com
SUMMARY:Anthony "Duke" Claus - Barry Manillow Christmas Tribute Show
DESCRIPTION:
URL:https://forteristorante.com/event/anthony-duke-claus-barry-manillow-christmas-tribute-show/
LOCATION:Forte Ristorante\, 160 Prospect Ave\, Hackensack\, NJ\, 07601\, United States
END:VEVENT
END:VCALENDAR