BEGIN:VCALENDAR
VERSION:2.0
PRODID:-//Forte Ristorante - ECPv6.15.13//NONSGML v1.0//EN
CALSCALE:GREGORIAN
METHOD:PUBLISH
X-WR-CALNAME:Forte Ristorante
X-ORIGINAL-URL:https://forteristorante.com
X-WR-CALDESC:Events for Forte Ristorante
REFRESH-INTERVAL;VALUE=DURATION:PT1H
X-Robots-Tag:noindex
X-PUBLISHED-TTL:PT1H
BEGIN:VTIMEZONE
TZID:UTC
BEGIN:STANDARD
TZOFFSETFROM:+0000
TZOFFSETTO:+0000
TZNAME:UTC
DTSTART:20250101T000000
END:STANDARD
END:VTIMEZONE
BEGIN:VEVENT
DTSTART;TZID=UTC:20260417T210000
DTEND;TZID=UTC:20260417T233000
DTSTAMP:20260421T185155
CREATED:20260403T165305Z
LAST-MODIFIED:20260403T165600Z
UID:3694-1776459600-1776468600@forteristorante.com
SUMMARY:DJ Anthony DiLauri
DESCRIPTION:
URL:https://forteristorante.com/event/dj-anthony-dilauri-7/
LOCATION:NJ
END:VEVENT
BEGIN:VEVENT
DTSTART;TZID=UTC:20260418T210000
DTEND;TZID=UTC:20260418T233000
DTSTAMP:20260421T185155
CREATED:20260403T165401Z
LAST-MODIFIED:20260403T165401Z
UID:3695-1776546000-1776555000@forteristorante.com
SUMMARY:DJ G-rock
DESCRIPTION:
URL:https://forteristorante.com/event/dj-g-rock-5/
LOCATION:Forte Ristorante\, 160 Prospect Ave\, Hackensack\, NJ\, 07601\, United States
END:VEVENT
BEGIN:VEVENT
DTSTART;TZID=UTC:20260424T210000
DTEND;TZID=UTC:20260424T233000
DTSTAMP:20260421T185155
CREATED:20260403T165427Z
LAST-MODIFIED:20260403T165427Z
UID:3696-1777064400-1777073400@forteristorante.com
SUMMARY:DJ Ricky
DESCRIPTION:
URL:https://forteristorante.com/event/dj-ricky-20/
LOCATION:Forte Ristorante\, 160 Prospect Ave\, Hackensack\, NJ\, 07601\, United States
END:VEVENT
BEGIN:VEVENT
DTSTART;TZID=UTC:20260425T210000
DTEND;TZID=UTC:20260425T233000
DTSTAMP:20260421T185155
CREATED:20260403T165454Z
LAST-MODIFIED:20260403T165454Z
UID:3697-1777150800-1777159800@forteristorante.com
SUMMARY:DJ Dave the Rave
DESCRIPTION:
URL:https://forteristorante.com/event/dj-dave-the-rave-6/
LOCATION:Forte Ristorante\, 160 Prospect Ave\, Hackensack\, NJ\, 07601\, United States
END:VEVENT
END:VCALENDAR